BEGIN:VCALENDAR
VERSION:2.0
PRODID:-//Wild Blue Yonder - ECPv5.16.4//NONSGML v1.0//EN
CALSCALE:GREGORIAN
METHOD:PUBLISH
X-WR-CALNAME:Wild Blue Yonder
X-ORIGINAL-URL:https://www.wildblueyonder.band
X-WR-CALDESC:Events for Wild Blue Yonder
REFRESH-INTERVAL;VALUE=DURATION:PT1H
X-Robots-Tag:noindex
X-PUBLISHED-TTL:PT1H
BEGIN:VTIMEZONE
TZID:America/New_York
BEGIN:DAYLIGHT
TZOFFSETFROM:-0500
TZOFFSETTO:-0400
TZNAME:EDT
DTSTART:20260308T070000
END:DAYLIGHT
BEGIN:STANDARD
TZOFFSETFROM:-0400
TZOFFSETTO:-0500
TZNAME:EST
DTSTART:20261101T060000
END:STANDARD
END:VTIMEZONE
BEGIN:VEVENT
DTSTART;TZID=America/New_York:20260519T120000
DTEND;TZID=America/New_York:20260519T130000
DTSTAMP:20260419T200107
CREATED:20260310T212521Z
LAST-MODIFIED:20260310T212521Z
UID:6938-1779192000-1779195600@www.wildblueyonder.band
SUMMARY:Church picnic PRIVATE event
DESCRIPTION:Call or email us today to add rootsy fun to YOUR private event – we love to play them all! Special for 2026 is a new WBY selection of patriotic tunes to celebrate America 250! \n\n\n	 Tags:  \n	Gospel music\, \nacoustic\, \nappalachia\, \nappalachian mountains\, \nband\, \nbanjo\, \nbluegrass\, \ncelebration\, \nchurch\, \ngreat smoky mountains\, \nguitar\, \nharmony\, \nlive music\, \nmandolin\, \nmountain music\, \nold-time\, \nroots music
URL:https://www.wildblueyonder.band/event/church-picnic-private-event/
ATTACH;FMTTYPE=image/jpeg:https://www.wildblueyonder.band/wp-content/uploads/2026/03/IMG_1548-3.jpg
END:VEVENT
END:VCALENDAR