BEGIN:VCALENDAR
VERSION:2.0
PRODID:-//Wild Blue Yonder - ECPv5.16.4//NONSGML v1.0//EN
CALSCALE:GREGORIAN
METHOD:PUBLISH
X-WR-CALNAME:Wild Blue Yonder
X-ORIGINAL-URL:https://www.wildblueyonder.band
X-WR-CALDESC:Events for Wild Blue Yonder
REFRESH-INTERVAL;VALUE=DURATION:PT1H
X-Robots-Tag:noindex
X-PUBLISHED-TTL:PT1H
BEGIN:VTIMEZONE
TZID:America/New_York
BEGIN:DAYLIGHT
TZOFFSETFROM:-0500
TZOFFSETTO:-0400
TZNAME:EDT
DTSTART:20230312T070000
END:DAYLIGHT
BEGIN:STANDARD
TZOFFSETFROM:-0400
TZOFFSETTO:-0500
TZNAME:EST
DTSTART:20231105T060000
END:STANDARD
END:VTIMEZONE
BEGIN:VEVENT
DTSTART;TZID=America/New_York:20231203T123000
DTEND;TZID=America/New_York:20231203T130000
DTSTAMP:20260421T153051
CREATED:20231126T174714Z
LAST-MODIFIED:20231223T184750Z
UID:5895-1701606600-1701608400@www.wildblueyonder.band
SUMMARY:PRIVATE Church event
DESCRIPTION:Wild Blue Yonder Appalachian Gospel/Old-Time small group loves to play for church events! Call or write us today if your church local to Knoxville has a need for music to share the timeless truths of the Gospel\, particularly to unbelievers. We share our Gospel music largely as a ministry. Plenty of open dates currently in January and February 2024.
URL:https://www.wildblueyonder.band/event/private-church-event/
LOCATION:Knoxville\, TN
ATTACH;FMTTYPE=image/jpeg:https://www.wildblueyonder.band/wp-content/uploads/2023/11/P.-Forge-with-Mike-G.-PM.jpg
END:VEVENT
END:VCALENDAR