BEGIN:VCALENDAR
VERSION:2.0
PRODID:-//Wild Blue Yonder - ECPv5.16.4//NONSGML v1.0//EN
CALSCALE:GREGORIAN
METHOD:PUBLISH
X-WR-CALNAME:Wild Blue Yonder
X-ORIGINAL-URL:https://www.wildblueyonder.band
X-WR-CALDESC:Events for Wild Blue Yonder
REFRESH-INTERVAL;VALUE=DURATION:PT1H
X-Robots-Tag:noindex
X-PUBLISHED-TTL:PT1H
BEGIN:VTIMEZONE
TZID:America/New_York
BEGIN:DAYLIGHT
TZOFFSETFROM:-0500
TZOFFSETTO:-0400
TZNAME:EDT
DTSTART:20240310T070000
END:DAYLIGHT
BEGIN:STANDARD
TZOFFSETFROM:-0400
TZOFFSETTO:-0500
TZNAME:EST
DTSTART:20241103T060000
END:STANDARD
END:VTIMEZONE
BEGIN:VEVENT
DTSTART;TZID=America/New_York:20240427T190000
DTEND;TZID=America/New_York:20240427T200000
DTSTAMP:20260421T205256
CREATED:20240425T144338Z
LAST-MODIFIED:20240507T155025Z
UID:6366-1714244400-1714248000@www.wildblueyonder.band
SUMMARY:Camporee on the Hill
DESCRIPTION:Enjoy Old-Time\, Gospel and ‘grassy tunes with WBY at this unique outdoor setting! FREE to attend. We’ll play from 7:00-8:00 pm on Saturday\, but the event runs Apr. 26-28. An immersive camping experience hosted by Knox County Park & Recreation. Features interactive nature programming for all ages\, a sunset movie showing\, water sport rentals\, and the most beautiful scenic views in Knox County. Offering a select number of primitive tent and group sites with views of Melton Hill’s beautiful lakefront. Tent sites are designed to accommodate up to 6 people\, while group sites accommodate up to 12 individuals.\nReservations for the camporee include camp site reservation and all programmed activities for the weekend\, sent the week prior to the event.\nCheck-in: Friday\, April 26 after 4 p.m. Check-out: Sunday\, April 28 before 11 a.m.\nPets are welcome and must be on leash and under control at all times.\nFor the safety of your pet and park wildlife\, pets may not be left unattended.\nAn onsite bathhouse offers showers and restroom facilities.\nCamp sites will not include electric or water hook-up.\n*Camporee is open to Knox County Residents only.\nCamporee is FREE of charge but requires registration.\n \nREGISTER HERE\n 
URL:https://www.wildblueyonder.band/event/camporee-on-the-hill/
LOCATION:Melton Hill Park\, 3230 Williams Bend Rd.\, Knoxville\, TN\, 37932
ATTACH;FMTTYPE=image/jpeg:https://www.wildblueyonder.band/wp-content/uploads/2024/04/IMG_3371.jpg
END:VEVENT
END:VCALENDAR